BEGIN:VCALENDAR
VERSION:2.0
PRODID:-//Tukios.com/
BEGIN:VEVENT
UID:a6592fa0-058c-4e7b-89e0-78d0db709b75@www.loranfawcettfuneralhome.com
DTSTAMP:20260422T005755Z
DTSTART:20260427T150000Z
DTEND:20260427T160000Z
SUMMARY:Memorial Service
DESCRIPTION:
URL:https://www.loranfawcettfuneralhome.com/obituaries/paulla-mitchell
LOCATION: 704 Indiana St  Neodesha KS 66757
GEO:37.4188021;-95.6826849
END:VEVENT
END:VCALENDAR