BEGIN:VCALENDAR
VERSION:2.0
PRODID:-//Tukios.com/
BEGIN:VEVENT
UID:0912b22d-77ea-44d1-97ea-087605cb471c@www.loranfawcettfuneralhome.com
DTSTAMP:20260422T005704Z
DTSTART:20260427T160000Z
DTEND:20260427T170000Z
SUMMARY:Graveside Service
DESCRIPTION:
URL:https://www.loranfawcettfuneralhome.com/obituaries/paulla-mitchell
LOCATION:  2nd St  Neodesha KS 66757
GEO:37.435442;-95.676662
END:VEVENT
END:VCALENDAR